BEGIN:VCALENDAR
VERSION:2.0
PRODID:-//eventon.com NONSGML v1.0//EN
CALSCALE:GREGORIAN
METHOD:PUBLISH
BEGIN:VEVENT
UID:69e7377ae9da8
DTSTAMP:20260421T083818Z
DTSTART:20260213T150000Z
DTEND:20260213T225900Z
LOCATION:Mochenwangen
SUMMARY:Umzug Mochenwangen
DESCRIPTION:\nhttps://kickacher-waldbadhexen.de/events/umzug-mochenwangen/
URL:https://kickacher-waldbadhexen.de/events/umzug-mochenwangen/
END:VEVENT
END:VCALENDAR