BEGIN:VCALENDAR
VERSION:2.0
PRODID:-//eventon.com NONSGML v1.0//EN
CALSCALE:GREGORIAN
METHOD:PUBLISH
BEGIN:VEVENT
UID:69e73aa608c6c
DTSTAMP:20260421T085150Z
DTSTART:20260213T083000Z
DTEND:20260213T225900Z
LOCATION:Baienfurt
SUMMARY:Kindergartenbefreiung Kindergarten Pinocchio Baienfurt
DESCRIPTION:\nhttps://kickacher-waldbadhexen.de/events/kindergartenbefreiun
 g-kindergarten-pinocchio-baienfurt/
URL:https://kickacher-waldbadhexen.de/events/kindergartenbefreiung-kindergarten-pinocchio-baienfurt/
END:VEVENT
END:VCALENDAR